BEGIN:VCALENDAR
VERSION:2.0
PRODID:-//Marzena Blank - ECPv5.14.1//NONSGML v1.0//EN
CALSCALE:GREGORIAN
METHOD:PUBLISH
X-WR-CALNAME:Marzena Blank
X-ORIGINAL-URL:https://www.marzena-blank.de
X-WR-CALDESC:Veranstaltungen für Marzena Blank
BEGIN:VTIMEZONE
TZID:UTC
BEGIN:STANDARD
TZOFFSETFROM:+0000
TZOFFSETTO:+0000
TZNAME:UTC
DTSTART:20190101T000000
END:STANDARD
END:VTIMEZONE
BEGIN:VEVENT
DTSTART;TZID=UTC:20190630T140000
DTEND;TZID=UTC:20190630T170000
DTSTAMP:20260420T062315
CREATED:20190622T214118Z
LAST-MODIFIED:20190622T214119Z
UID:914-1561903200-1561914000@www.marzena-blank.de
SUMMARY:Gospel meets Gospel Langerwehe
DESCRIPTION:Gospelchor „Joy of Gospel“ veranstaltet am 30. Juni zum 15. Mal schon  Open Air Gospelfestival  Gospel meets Gospel im Garten des Töpfereimuseums Langerwehe. \nDem Anlass entsprechend wurden dieses Mal besondere Chöre eingeladen. Das sind : „rejoiSing“ aus Erkelenz\,  „Lautstark“ aus Weisweiler und  Chor „Crescendo“ aus Kreuzau. \nEine Mischung verschiedenster Stilrichtungen der Gospelmusik \, ein Muss! \nVeranstaltung beginnt um 14.00 Uhr mit dem Auftritt von „Joy of Gospel“ unter der Leitung von Darnita und Kirk Rogers und endet gegen 17.00 Uhr mit einem gemeinsamen Schlusslied aller Chöre. \nGenau das Richtige\, um einen schönen Tag zu verbringen und sich von toller\, mitreißender Musik inspirieren zu lassen! \n\n\n	Ähnliche Beiträge
URL:https://www.marzena-blank.de/event/gospel-meets-gospel-langerwehe/
LOCATION:Töpfereimuseum Langerwehe\, Pastoratsweg 1\, Langerwehe\, NRW\, 52379\, Deutschland
CATEGORIES:Konzert,Veranstaltung
ATTACH;FMTTYPE=image/jpeg:https://www.marzena-blank.de/wp-content/uploads/2019/06/gospel.jpg
END:VEVENT
END:VCALENDAR