BEGIN:VCALENDAR
VERSION:2.0
PRODID:-//Marzena Blank - ECPv5.14.1//NONSGML v1.0//EN
CALSCALE:GREGORIAN
METHOD:PUBLISH
X-WR-CALNAME:Marzena Blank
X-ORIGINAL-URL:https://www.marzena-blank.de
X-WR-CALDESC:Veranstaltungen für Marzena Blank
BEGIN:VTIMEZONE
TZID:UTC
BEGIN:STANDARD
TZOFFSETFROM:+0000
TZOFFSETTO:+0000
TZNAME:UTC
DTSTART:20190101T000000
END:STANDARD
END:VTIMEZONE
BEGIN:VEVENT
DTSTART;TZID=UTC:20190216T200000
DTEND;TZID=UTC:20190216T233000
DTSTAMP:20260422T085632
CREATED:20190210T160254Z
LAST-MODIFIED:20190210T160254Z
UID:860-1550347200-1550359800@www.marzena-blank.de
SUMMARY:Illusion Konzert Rotterdam - 16. Februar 2019
DESCRIPTION: Eine legendäre und einer der besten polnischen Rockbands kommt nach Holland – Illusion!  \nIllusion\nIm Baroeg-Club in Rotterdam präsentiert Illusion  die wichtigsten Werke aus dem Querschnitt der Arbeit sowie Material des neuesten Albums “Anhedonia”\, das 2018 am 25. Jahrestag der Band veröffentlicht wurde. \nAlle Liebhaber scharfer Rockklänge sind zu diesem Musikereignis und direkt nach dem Konzert mit der Band eingeladen! ………und ich bin dabei!!!\n\n\nIllusion\nMein Abenteuer mit der Band hat 1994 angefangen! und ich kann ohne Noz\, Wojtek und Nikt nicht leben! \n\n\n\n	Ähnliche Beiträge
URL:https://www.marzena-blank.de/event/illusion-konzert-rotterdam-16-februar-2019/
LOCATION:Rotterdam\, Spinozaweg 300\, Rotterdam\, 3076 ET Rotterdam\, 3076\, Niederlande
CATEGORIES:Konzert
ATTACH;FMTTYPE=image/jpeg:https://www.marzena-blank.de/wp-content/uploads/2019/02/illusion.jpg
END:VEVENT
END:VCALENDAR