BEGIN:VCALENDAR
VERSION:2.0
PRODID:-//Marzena Blank - ECPv5.14.1//NONSGML v1.0//EN
CALSCALE:GREGORIAN
METHOD:PUBLISH
X-WR-CALNAME:Marzena Blank
X-ORIGINAL-URL:https://www.marzena-blank.de
X-WR-CALDESC:Veranstaltungen für Marzena Blank
BEGIN:VTIMEZONE
TZID:UTC
BEGIN:STANDARD
TZOFFSETFROM:+0000
TZOFFSETTO:+0000
TZNAME:UTC
DTSTART:20180101T000000
END:STANDARD
END:VTIMEZONE
BEGIN:VEVENT
DTSTART;TZID=UTC:20181201T100000
DTEND;TZID=UTC:20181202T200000
DTSTAMP:20260422T085601
CREATED:20181107T213237Z
LAST-MODIFIED:20181107T213237Z
UID:846-1543658400-1543780800@www.marzena-blank.de
SUMMARY:Kunst und Weihnachtsmarkt Würselen
DESCRIPTION:Schon 40. Mal findet am ersten Advents-Wochenende also  1.  und 2.  Dezember 2018\, der Kunst und Weihnachtsmarkt in Würselen. Organisiert ist der  von der Pfarre St. Sebastian. \nDie kleinen gemütlichen Stände laden zum probieren\, berühren\, riechen\, anschauen und sich letztendlich zum Kauf einer Besonderheit ein\,  vielleicht kunsthandwerklichen Geschenk zu erwerben und sich auf Weihnachten einzustimmen. \nAlle Jahre wieder in der Vorweihnachtszeit verwandelt sich der  Würselener Dom-vorplatz  in ein Paradies für die Sinne. Mit  seiner außergewöhnlichen Atmosphäre für die Würselener sehr beliebt\, vielleicht deswegen\, weil er winzig ist und sehr kurz dauert. Die Kirche St. Sebastian bietet eine Krippenaustellung.  Insbesondere der abendliche Blick auf den angestrahlten Dom  machen einen Besuch auf dem Kunst und Weihnachtsmarkt  zu einem ganz besonderen Erlebnis. \nFür mich ein Pflichtbesuch\, vor allem der Stand mit dem selbstgemachten Konfitüren\, Ölen\, Plätzchen und ähnlichen Leckereien. Aber auch bei dem Büchern kann ich nicht so einfach vorbei laufen. \nVon 10 bis 20 Uhr verzaubert  sich Würselen in ein magischer und märchenhafter  Ort auf der Erde. \n  \n\n\n	Ähnliche Beiträge
URL:https://www.marzena-blank.de/event/kunst-und-weihnachtsmarkt-wuerselen/
LOCATION:Würselen\, St. Sebastian\, Würselen\, NRW\, 52146\, Deutschland
CATEGORIES:Veranstaltung
ATTACH;FMTTYPE=image/jpeg:https://www.marzena-blank.de/wp-content/uploads/2018/11/Weinachten.jpg
END:VEVENT
END:VCALENDAR