BEGIN:VCALENDAR
VERSION:2.0
PRODID:-//Marzena Blank - ECPv5.14.1//NONSGML v1.0//EN
CALSCALE:GREGORIAN
METHOD:PUBLISH
X-WR-CALNAME:Marzena Blank
X-ORIGINAL-URL:https://www.marzena-blank.de
X-WR-CALDESC:Veranstaltungen für Marzena Blank
BEGIN:VTIMEZONE
TZID:UTC
BEGIN:STANDARD
TZOFFSETFROM:+0000
TZOFFSETTO:+0000
TZNAME:UTC
DTSTART:20190101T000000
END:STANDARD
END:VTIMEZONE
BEGIN:VEVENT
DTSTART;TZID=UTC:20190613T170000
DTEND;TZID=UTC:20190613T233000
DTSTAMP:20260420T080609
CREATED:20190423T200733Z
LAST-MODIFIED:20190423T200734Z
UID:887-1560445200-1560468600@www.marzena-blank.de
SUMMARY:METALLICA 2019 - WorldWired Tour Köln
DESCRIPTION:Metallica Tour Germany\n  \nWeil Träume muss man ausleben….. \nwir kommen \n\n\n	Ähnliche Beiträge
URL:https://www.marzena-blank.de/event/metallica-2019-worldwired-tour-koeln/
LOCATION:RheinEnergieStadion\, Aachener Str. 999\, Köln\, 50933\, Deutschland
CATEGORIES:Konzert
ATTACH;FMTTYPE=image/jpeg:https://www.marzena-blank.de/wp-content/uploads/2019/04/Metallica.jpg
END:VEVENT
END:VCALENDAR