BEGIN:VCALENDAR
VERSION:2.0
PRODID:-//Marzena Blank - ECPv5.14.1//NONSGML v1.0//EN
CALSCALE:GREGORIAN
METHOD:PUBLISH
X-WR-CALNAME:Marzena Blank
X-ORIGINAL-URL:https://www.marzena-blank.de
X-WR-CALDESC:Veranstaltungen für Marzena Blank
BEGIN:VTIMEZONE
TZID:UTC
BEGIN:STANDARD
TZOFFSETFROM:+0000
TZOFFSETTO:+0000
TZNAME:UTC
DTSTART:20200101T000000
END:STANDARD
END:VTIMEZONE
BEGIN:VEVENT
DTSTART;VALUE=DATE:20200801
DTEND;VALUE=DATE:20200802
DTSTAMP:20260420T045154
CREATED:20200726T080654Z
LAST-MODIFIED:20200730T193806Z
UID:1029-1596240000-1596326399@www.marzena-blank.de
SUMMARY:Nicht ohne uns 01.08.2020 Berlin Demo zum Tag der Freiheit
DESCRIPTION:Berlin! Berlin! Wir fahren nach Berlin!\nWir bestehen auf die ersten 20 Artikel unserer Verfassung\,\ninsbesondere auf die Aufhebung der Einschränkungen\ndurch die Corona-Verordnung von: \n\nArtikel 1: Menschenwürde\, Menschenrechte\, Rechtsverbindlichkeit der Grundrechte\nArtikel 2: Persönliche Freiheitsrechte\nArtikel 4: Glaubens und Gewissensfreiheit\nArtikel 5: Freiheit der Meinung\, Kunst und Wissenschaft\nArtikel 7: Schulwesen\nArtikel 8: Versammlungsfreiheit\nArtikel 11: Freizügigkeit\nArtikel 12: Berufsfreiheit\nArtikel 13: Unverletzlichkeit der Wohnung\n\n1. AUGUST 2020\, 11 UHR\, BRANDENBURGER TOR\n\n\n\n\n\n\n\nZunächst einmal eine Kurzübersicht:\n1. August\, 11:00 Uhr: Start Umzug durch Berlin\n1. August\, 14:30 Uhr: Kundgebung auf der Straße des 17. Juni\n1. August\, 18:00 Uhr: Tanz für Freiheit und Grundrechte Straße des 17. Juni\n\n2. August: 11:00 Uhr: Kundgebung auf dem Platz des 18. März\n2. August: 15:00 Uhr: Kundgebung im Mauerpark\n\n\n\n\n\n\n\n\nNicht ohne uns\n\n\n\n\n\n\n\n\n\n\n\n\n\n\n\n\n\nSOMMER DER DEMOKRATIE \n \n\n\nNICHT OHNE UNS \n Demokratischer Widerstand besteht weiterhin \n\nauf die ersten 20 Artikel unserer Verfassung!\nauf die Würde der Alten & der Kranken!\nauf Verhinderung obrigkeitsstaatlicher Schikanen!\nauf Beendigung des Notstands-Regimes!\nauf Wahlen & umfassende Transparenz!\nauf demokratische Regeln für unser künftiges Wirtschaftssystem!\n\n\nDafür fahren wir nach Berlin! Und ich bin dabei 🕊️😊 \nEnde der Pandemie! \n  \nEs ist überwältigend\, wer sich alles an diesem Wochenende auf den Weg\nmacht\, um mit uns gemeinsam den 1. August als neuen Feiertag in die\nHerzen der Deutschen zu schreiben. Am 2. August gilt es\, das Ganze\nabzurunden mit zwei von Querdenken-Regionalgruppen organisierten\nVeranstaltungen. \n\nGroßdemo Berlin\nDas Ende der #Pandemie\nDer Tag der Freiheit\nTreffpunkt:\nSamstag\, 1. August 2020\nStraße des 17. Juni\n#Berlin 10:30 Uhr\n#BrandenburgerTor \nAn dem Umzug nehmen ca. 11 Großfahrzeuge teil sowie\, die Friedensfahrzeuge.\nOb die bereits koordinierte Startreihenfolge eingehalten\nwerden kann\, wissen wir leider erst am Veranstaltungstag. Geplant ist jedoch\,\ndass sich die Teilnehmer des Umzuges jeweils zwischen den Fahrzeugen\neinreihen.\nEinige Gruppen haben sich auch darauf geeinigt\, entsprechende Stadtschilder\nzu erstellen\, hinter denen man sich einfinden kann. Hier ist die Kreativität der\neinzelnen Gruppen gefragt.\nDie aktuell geplante Strecke sieht wie folgt aus: \nRoute Spaziergang Berlin\n\nAufzug durch Berlin 14:30 Uhr\nEintreffen des Aufzugs 15:30 Uhr\nHauptkundgebung #querdenken711 bis ca 21 Uhr\n#FreieMedien #SelberDenken #AlternativeMedien #eingeschenkttv\n\n\nOffizieller Programm Plan und Redner ab 15:30\n \n  \nParty Programm Plan Berlin 1.8\n \n\n\n\n\n\n\n\n\n\n\n\n	Ähnliche Beiträge
URL:https://www.marzena-blank.de/event/nicht-ohne-uns-01-08-2020-berlin-demo-zum-tag-der-freiheit/
LOCATION:Brandenburger Tor\, Berlin\, Pariser Platz\, 10117 Berlin\, Berlin\, Berlin\, 10117
CATEGORIES:Veranstaltung
ATTACH;FMTTYPE=image/jpeg:https://www.marzena-blank.de/wp-content/uploads/2020/07/IMG_20200721_124701_975.jpg
END:VEVENT
END:VCALENDAR