BEGIN:VCALENDAR
VERSION:2.0
PRODID:-//Marzena Blank - ECPv5.14.1//NONSGML v1.0//EN
CALSCALE:GREGORIAN
METHOD:PUBLISH
X-WR-CALNAME:Marzena Blank
X-ORIGINAL-URL:https://www.marzena-blank.de
X-WR-CALDESC:Veranstaltungen für Marzena Blank
BEGIN:VTIMEZONE
TZID:UTC
BEGIN:STANDARD
TZOFFSETFROM:+0000
TZOFFSETTO:+0000
TZNAME:UTC
DTSTART:20180101T000000
END:STANDARD
END:VTIMEZONE
BEGIN:VEVENT
DTSTART;TZID=UTC:20180811T140000
DTEND;TZID=UTC:20180811T210000
DTSTAMP:20260422T125605
CREATED:20180715T152810Z
LAST-MODIFIED:20180715T152810Z
UID:214-1533996000-1534021200@www.marzena-blank.de
SUMMARY:Polnisches Familienfest Köln
DESCRIPTION:Erste TYSKIE Polonia Piknik in Köln\, moderiert von Die POlin findet am 11. August auf dem Gelände des Sportsparks Cologne. \nDas Familienfest wird musikalisch begleitet von \nDJ Swiety\nOxforduo-  Coverband aus Leverkusen\nSpizowi Mocni\nMasters. \nEs gibt polnische Speisen\, ein Kinderprogramm sowie viel Spaß auch für die Erwachsenen. \nSchon wieder ein Heimatgefühl ! Wir freuen uns sehr! \n  \n  \n  \n\n\n	Ähnliche Beiträge
URL:https://www.marzena-blank.de/event/polnisches-familienfest-koeln/
LOCATION:Sportpark Cologne\, Poller Weg 1\, Köln\, NRW\, Deutschland
CATEGORIES:Party
ATTACH;FMTTYPE=image/jpeg:https://www.marzena-blank.de/wp-content/uploads/2018/07/FB_IMG_1531588685609.jpg
END:VEVENT
END:VCALENDAR