BEGIN:VCALENDAR
VERSION:2.0
PRODID:-//Marzena Blank - ECPv5.14.1//NONSGML v1.0//EN
CALSCALE:GREGORIAN
METHOD:PUBLISH
X-WR-CALNAME:Marzena Blank
X-ORIGINAL-URL:https://www.marzena-blank.de
X-WR-CALDESC:Veranstaltungen für Marzena Blank
BEGIN:VTIMEZONE
TZID:UTC
BEGIN:STANDARD
TZOFFSETFROM:+0000
TZOFFSETTO:+0000
TZNAME:UTC
DTSTART:20180101T000000
END:STANDARD
END:VTIMEZONE
BEGIN:VEVENT
DTSTART;TZID=UTC:20180922T190000
DTEND;TZID=UTC:20180922T233000
DTSTAMP:20260422T085617
CREATED:20180825T194042Z
LAST-MODIFIED:20180825T194042Z
UID:772-1537642800-1537659000@www.marzena-blank.de
SUMMARY:Polska Noc Kabaretowa Essen 2018
DESCRIPTION:Polska Noc Kabaretowa – die polnische Kabaretnacht  –  ist eine jährliche Unterhaltungsshow\, die in mehreren Dutzend polnischen Städten mehrere Tausend Unterhaltungsfans auf höchstem Niveau versammelt. \n\n\n\n\n\n\n\nTrotz Stereotypen zeigen wir\, dass Polen mit einer Pumpe und zum Spaß feiern können. \nPolen ist seit 100 Jahren unabhängig! \nWährend des ganzen Jahres wird mit einem speziell für diesen Anlass vorbereiteten Programm durch Polen gereist. \nEs ist ein besonderer Jahrestag\, den wir auf absolut verrückte Weise feiern. Die Polen sind  äußerst fröhliche\, kreative und stolze Nation\, und so wird auch ein gemeinsamer Kabarettabend. \nFast 4 Stunden unvorhersehbare Wendungen\, überraschende Punkte und gemeinsame Feierlichkeiten mit dem besten polnischen Kabarett. Der Autor des Szenarios des Spaßes des Jahrhunderts ist Robert Górski. Die siebte Ausgabe der Polnischen Kabarettnacht wird zum ersten Mal vom  Kabaret Moralnego Niepokoju durchgeführt. Es treten auch noch : Ireneusz Krosny\,  Marcin Daniec\, Nowaki Cabaret\, Kabaret Skeczów Męczących und mein Favorit –  Igor Kwiatkowski alias Mariolka!\n\n\n\n\n\n\n\n\n	Ähnliche Beiträge
URL:https://www.marzena-blank.de/event/polska-noc-kabaretowa-essen-2018/
LOCATION:Colosseum Theater\, Altendorfer Str. 1\, Essen\, 45127
CATEGORIES:Veranstaltung
ATTACH;FMTTYPE=image/jpeg:https://www.marzena-blank.de/wp-content/uploads/2018/08/FB_IMG_1535207260266.jpg
END:VEVENT
END:VCALENDAR