BEGIN:VCALENDAR
VERSION:2.0
PRODID:-//Marzena Blank - ECPv5.14.1//NONSGML v1.0//EN
CALSCALE:GREGORIAN
METHOD:PUBLISH
X-WR-CALNAME:Marzena Blank
X-ORIGINAL-URL:https://www.marzena-blank.de
X-WR-CALDESC:Veranstaltungen für Marzena Blank
BEGIN:VTIMEZONE
TZID:UTC
BEGIN:STANDARD
TZOFFSETFROM:+0000
TZOFFSETTO:+0000
TZNAME:UTC
DTSTART:20180101T000000
END:STANDARD
END:VTIMEZONE
BEGIN:VEVENT
DTSTART;TZID=UTC:20180306T200000
DTEND;TZID=UTC:20180306T223000
DTSTAMP:20260422T085349
CREATED:20180217T192127Z
LAST-MODIFIED:20180219T192908Z
UID:217-1520366400-1520375400@www.marzena-blank.de
SUMMARY:Rag'n'Bone Man Konzert Köln
DESCRIPTION:Rag’n’Bone Man Konzert Köln\n  \nTake a look in the mirror\nAnd what do you see\nDo you see it clearer\nOr are you deceived\nIn what you believe\n‘Cause I’m only human after all\nYou’re only human after all\nDon’t put the blame on me\nDon’t put your blame on mer \nWi freuen uns jetzt schon die göttliche Stimme bald in Köln  zu hören!   \n\n\n	Ähnliche Beiträge
URL:https://www.marzena-blank.de/event/ragnbone-man-konzert-koeln/
LOCATION:Palladium Köln\, Schanzenstr. 40\, Köln\, NRW\, 51063\, Deutschland
CATEGORIES:Konzert
ATTACH;FMTTYPE=image/jpeg:https://www.marzena-blank.de/wp-content/uploads/2018/02/FB_IMG_1518893773649.jpg
END:VEVENT
END:VCALENDAR