BEGIN:VCALENDAR
VERSION:2.0
PRODID:-//Marzena Blank - ECPv5.14.1//NONSGML v1.0//EN
CALSCALE:GREGORIAN
METHOD:PUBLISH
X-WR-CALNAME:Marzena Blank
X-ORIGINAL-URL:https://www.marzena-blank.de
X-WR-CALDESC:Veranstaltungen für Marzena Blank
BEGIN:VTIMEZONE
TZID:UTC
BEGIN:STANDARD
TZOFFSETFROM:+0000
TZOFFSETTO:+0000
TZNAME:UTC
DTSTART:20180101T000000
END:STANDARD
END:VTIMEZONE
BEGIN:VEVENT
DTSTART;TZID=UTC:20181216T110000
DTEND;TZID=UTC:20181216T130000
DTSTAMP:20260420T085926
CREATED:20180909T154148Z
LAST-MODIFIED:20180909T154148Z
UID:825-1544958000-1544965200@www.marzena-blank.de
SUMMARY:SUN LANE LTD - vorweihnachtliches Benefiz-Konzert zum Jahresende Kurpark Terrassen
DESCRIPTION:Vorweihnachtliches Benefiz-Konzert zum Jahresende von Sun Lane Ltd – New Orleans Jazzband of Aachen \n  \n“Die SUN LANE NEW ORLEANS JAZZBAND wurde 1977 von Mitgliedern des Aerodynamischen Instituts der RWTH Aachen gegründet und spielt seit dem bis auf zwei Änderungen\, die beruflich bedingt waren\, in der gleichen Besetzung zusammen\, worauf auch der dichte Sound der Band – gewissermaßen ihr Markenzeichen – zurückzuführen ist.” –  http://www.sunlane.de/?page_id=3 \n  \n\n\n	Ähnliche Beiträge
URL:https://www.marzena-blank.de/event/sun-lane-ltd-vorweihnachtliches-benefiz-konzert-zum-jahresende-kurpark-terrassen/
LOCATION:Kurpark Terrassen\, Dammstraße 40\, 52066 Aachen\, NRW\, 52066
CATEGORIES:Konzert
ATTACH;FMTTYPE=image/jpeg:https://www.marzena-blank.de/wp-content/uploads/2018/09/Home.jpg
ORGANIZER;CN="Verein%20zur%20F%C3%B6rderung%20der%20Jazzmusik%20in%20der%20Region%20Aachen%20e.V":MAILTO:info@JazzVereinAachen.de
END:VEVENT
END:VCALENDAR